Package: genoCN Version: 1.44.0 Command: /home/biocbuild/bbs-3.13-bioc/R/bin/R CMD check --install=check:genoCN.install-out.txt --library=/home/biocbuild/bbs-3.13-bioc/R/library --no-vignettes --timings genoCN_1.44.0.tar.gz StartedAt: 2021-10-14 09:58:03 -0400 (Thu, 14 Oct 2021) EndedAt: 2021-10-14 09:58:36 -0400 (Thu, 14 Oct 2021) EllapsedTime: 33.4 seconds RetCode: 0 Status: WARNINGS CheckDir: genoCN.Rcheck Warnings: 1