Package: genoCN Version: 1.44.0 Command: /Library/Frameworks/R.framework/Versions/Current/Resources/bin/R CMD build --keep-empty-dirs --no-resave-data genoCN StartedAt: 2021-10-14 12:15:12 -0400 (Thu, 14 Oct 2021) EndedAt: 2021-10-14 12:15:55 -0400 (Thu, 14 Oct 2021) EllapsedTime: 42.3 seconds RetCode: 0 Status: OK PackageFile: genoCN_1.44.0.tar.gz PackageFileSize: 1.069 MiB