Package: geneplotter Version: 1.70.0 Command: /home/biocbuild/bbs-3.13-bioc/R/bin/R CMD check --install=check:geneplotter.install-out.txt --library=/home/biocbuild/bbs-3.13-bioc/R/library --no-vignettes --timings geneplotter_1.70.0.tar.gz StartedAt: 2021-10-14 09:57:04 -0400 (Thu, 14 Oct 2021) EndedAt: 2021-10-14 09:58:48 -0400 (Thu, 14 Oct 2021) EllapsedTime: 103.7 seconds RetCode: 0 Status: OK CheckDir: geneplotter.Rcheck Warnings: 0