Package: geneplotter Version: 1.70.0 Command: /Library/Frameworks/R.framework/Versions/Current/Resources/bin/R CMD check --install=check:geneplotter.install-out.txt --library=/Library/Frameworks/R.framework/Versions/Current/Resources/library --no-vignettes --timings geneplotter_1.70.0.tar.gz StartedAt: 2021-10-14 19:22:09 -0400 (Thu, 14 Oct 2021) EndedAt: 2021-10-14 19:24:31 -0400 (Thu, 14 Oct 2021) EllapsedTime: 142.8 seconds RetCode: 0 Status: OK CheckDir: geneplotter.Rcheck Warnings: 0