Package: geneplotter Version: 1.70.0 Command: rm -rf geneplotter.buildbin-libdir && mkdir geneplotter.buildbin-libdir && /Users/biocbuild/BBS/utils/build-universal.sh geneplotter_1.70.0.tar.gz /Library/Frameworks/R.framework/Versions/Current/Resources/bin/R geneplotter.buildbin-libdir StartedAt: 2021-10-15 02:31:34 -0400 (Fri, 15 Oct 2021) EndedAt: 2021-10-15 02:32:40 -0400 (Fri, 15 Oct 2021) EllapsedTime: 65.6 seconds RetCode: 0 Status: OK PackageFile: geneplotter_1.70.0.tgz PackageFileSize: 1.486 MiB