Package: genefu Version: 2.24.2 Command: /Library/Frameworks/R.framework/Versions/Current/Resources/bin/R CMD INSTALL genefu StartedAt: 2021-10-14 10:25:23 -0400 (Thu, 14 Oct 2021) EndedAt: 2021-10-14 10:26:00 -0400 (Thu, 14 Oct 2021) EllapsedTime: 37.7 seconds RetCode: 0 Status: OK