Package: genArise Version: 1.68.0 Command: chmod a+r genArise -R && C:\Users\biocbuild\bbs-3.13-bioc\R\bin\R.exe CMD build --keep-empty-dirs --no-resave-data genArise StartedAt: 2021-10-14 14:21:19 -0400 (Thu, 14 Oct 2021) EndedAt: 2021-10-14 14:22:14 -0400 (Thu, 14 Oct 2021) EllapsedTime: 54.8 seconds RetCode: 0 Status: OK PackageFile: genArise_1.68.0.tar.gz PackageFileSize: 870 KiB