Package: geNetClassifier Version: 1.32.0 Command: /home/biocbuild/bbs-3.13-bioc/R/bin/R CMD check --install=check:geNetClassifier.install-out.txt --library=/home/biocbuild/bbs-3.13-bioc/R/library --no-vignettes --timings geNetClassifier_1.32.0.tar.gz StartedAt: 2021-10-14 09:57:36 -0400 (Thu, 14 Oct 2021) EndedAt: 2021-10-14 09:58:33 -0400 (Thu, 14 Oct 2021) EllapsedTime: 57.0 seconds RetCode: 0 Status: OK CheckDir: geNetClassifier.Rcheck Warnings: 0