Package: geNetClassifier Version: 1.32.0 Command: /Library/Frameworks/R.framework/Versions/Current/Resources/bin/R CMD check --install=check:geNetClassifier.install-out.txt --library=/Library/Frameworks/R.framework/Versions/Current/Resources/library --no-vignettes --timings geNetClassifier_1.32.0.tar.gz StartedAt: 2021-10-14 19:22:53 -0400 (Thu, 14 Oct 2021) EndedAt: 2021-10-14 19:24:21 -0400 (Thu, 14 Oct 2021) EllapsedTime: 88.2 seconds RetCode: 0 Status: OK CheckDir: geNetClassifier.Rcheck Warnings: 0