Package: gdsfmt Version: 1.28.1 Command: rm -rf gdsfmt.buildbin-libdir && mkdir gdsfmt.buildbin-libdir && C:\Users\biocbuild\bbs-3.13-bioc\R\bin\R.exe CMD INSTALL --merge-multiarch --build --library=gdsfmt.buildbin-libdir gdsfmt_1.28.1.tar.gz StartedAt: 2021-10-15 09:27:33 -0400 (Fri, 15 Oct 2021) EndedAt: 2021-10-15 09:33:46 -0400 (Fri, 15 Oct 2021) EllapsedTime: 373.0 seconds RetCode: 0 Status: OK PackageFile: gdsfmt_1.28.1.zip PackageFileSize: 2.898 MiB