Package: gdsfmt Version: 1.28.1 Command: /Library/Frameworks/R.framework/Versions/Current/Resources/bin/R CMD INSTALL gdsfmt StartedAt: 2021-10-14 08:14:55 -0400 (Thu, 14 Oct 2021) EndedAt: 2021-10-14 08:19:05 -0400 (Thu, 14 Oct 2021) EllapsedTime: 250.0 seconds RetCode: 0 Status: OK