git_url: https://git.bioconductor.org/packages/gdsfmt git_branch: RELEASE_3_13 git_last_commit: c897242 git_last_commit_date: 2021-09-15 17:23:50 -0400 (Wed, 15 Sep 2021) Package: gdsfmt Version: 1.28.1 Maintainer: Xiuwen Zheng MaintainerEmail: zhengx at u.washington.edu