Package: garfield Version: 1.20.0 Command: /Library/Frameworks/R.framework/Versions/Current/Resources/bin/R CMD build --keep-empty-dirs --no-resave-data garfield StartedAt: 2021-10-14 12:10:41 -0400 (Thu, 14 Oct 2021) EndedAt: 2021-10-14 12:10:56 -0400 (Thu, 14 Oct 2021) EllapsedTime: 14.8 seconds RetCode: 0 Status: OK PackageFile: garfield_1.20.0.tar.gz PackageFileSize: 300.2 KiB