Package: gaggle Version: 1.60.0 Command: /home/biocbuild/bbs-3.13-bioc/R/bin/R CMD build --keep-empty-dirs --no-resave-data gaggle StartedAt: 2021-10-14 07:18:15 -0400 (Thu, 14 Oct 2021) EndedAt: 2021-10-14 07:18:21 -0400 (Thu, 14 Oct 2021) EllapsedTime: 5.7 seconds RetCode: 0 Status: OK PackageFile: gaggle_1.60.0.tar.gz PackageFileSize: 300.4 KiB