Package: funtooNorm Version: 1.16.0 Command: C:\Users\biocbuild\bbs-3.13-bioc\R\bin\R.exe CMD check --force-multiarch --install=check:funtooNorm.install-out.txt --library=C:\Users\biocbuild\bbs-3.13-bioc\R\library --no-vignettes --timings funtooNorm_1.16.0.tar.gz StartedAt: 2021-10-14 23:20:55 -0400 (Thu, 14 Oct 2021) EndedAt: 2021-10-14 23:29:59 -0400 (Thu, 14 Oct 2021) EllapsedTime: 544.4 seconds RetCode: 0 Status: WARNINGS CheckDir: funtooNorm.Rcheck Warnings: 1