Package: funtooNorm Version: 1.16.0 Command: chmod a+r funtooNorm -R && C:\Users\biocbuild\bbs-3.13-bioc\R\bin\R.exe CMD build --keep-empty-dirs --no-resave-data funtooNorm StartedAt: 2021-10-14 14:17:32 -0400 (Thu, 14 Oct 2021) EndedAt: 2021-10-14 14:19:27 -0400 (Thu, 14 Oct 2021) EllapsedTime: 115.8 seconds RetCode: 0 Status: OK PackageFile: funtooNorm_1.16.0.tar.gz PackageFileSize: 3.37 MiB