Package: frma Version: 1.44.0 Command: rm -rf frma.buildbin-libdir && mkdir frma.buildbin-libdir && C:\Users\biocbuild\bbs-3.13-bioc\R\bin\R.exe CMD INSTALL --merge-multiarch --build --library=frma.buildbin-libdir frma_1.44.0.tar.gz StartedAt: 2021-10-15 09:24:05 -0400 (Fri, 15 Oct 2021) EndedAt: 2021-10-15 09:25:18 -0400 (Fri, 15 Oct 2021) EllapsedTime: 73.6 seconds RetCode: 0 Status: OK PackageFile: frma_1.44.0.zip PackageFileSize: 619 KiB