Package: frma Version: 1.44.0 Command: /Library/Frameworks/R.framework/Versions/Current/Resources/bin/R CMD INSTALL frma StartedAt: 2021-10-14 09:09:40 -0400 (Thu, 14 Oct 2021) EndedAt: 2021-10-14 09:10:34 -0400 (Thu, 14 Oct 2021) EllapsedTime: 54.1 seconds RetCode: 0 Status: OK