Package: frma Version: 1.44.0 Command: /Library/Frameworks/R.framework/Versions/Current/Resources/bin/R CMD build --keep-empty-dirs --no-resave-data frma StartedAt: 2021-10-14 12:09:21 -0400 (Thu, 14 Oct 2021) EndedAt: 2021-10-14 12:10:31 -0400 (Thu, 14 Oct 2021) EllapsedTime: 69.1 seconds RetCode: 0 Status: OK PackageFile: frma_1.44.0.tar.gz PackageFileSize: 171.8 KiB