Package: frma Version: 1.44.0 Command: rm -rf frma.buildbin-libdir && mkdir frma.buildbin-libdir && /Users/biocbuild/BBS/utils/build-universal.sh frma_1.44.0.tar.gz /Library/Frameworks/R.framework/Versions/Current/Resources/bin/R frma.buildbin-libdir StartedAt: 2021-10-15 02:27:46 -0400 (Fri, 15 Oct 2021) EndedAt: 2021-10-15 02:28:44 -0400 (Fri, 15 Oct 2021) EllapsedTime: 58.2 seconds RetCode: 0 Status: OK PackageFile: frma_1.44.0.tgz PackageFileSize: 626 KiB