Package: fobitools Version: 1.0.0 Command: C:\Users\biocbuild\bbs-3.13-bioc\R\bin\R.exe CMD check --force-multiarch --install=check:fobitools.install-out.txt --library=C:\Users\biocbuild\bbs-3.13-bioc\R\library --no-vignettes --timings fobitools_1.0.0.tar.gz StartedAt: 2021-10-14 23:18:32 -0400 (Thu, 14 Oct 2021) EndedAt: 2021-10-14 23:27:24 -0400 (Thu, 14 Oct 2021) EllapsedTime: 532.3 seconds RetCode: 0 Status: OK CheckDir: fobitools.Rcheck Warnings: 0