Package: fmcsR Version: 1.34.0 Command: rm -rf fmcsR.buildbin-libdir && mkdir fmcsR.buildbin-libdir && /Users/biocbuild/BBS/utils/build-universal.sh fmcsR_1.34.0.tar.gz /Library/Frameworks/R.framework/Versions/Current/Resources/bin/R fmcsR.buildbin-libdir StartedAt: 2021-10-15 02:27:07 -0400 (Fri, 15 Oct 2021) EndedAt: 2021-10-15 02:28:13 -0400 (Fri, 15 Oct 2021) EllapsedTime: 65.7 seconds RetCode: 0 Status: OK PackageFile: fmcsR_1.34.0.tgz PackageFileSize: 883.7 KiB