Package: flowViz Version: 1.56.0 Command: /home/biocbuild/bbs-3.13-bioc/R/bin/R CMD INSTALL flowViz StartedAt: 2021-10-14 06:13:53 -0400 (Thu, 14 Oct 2021) EndedAt: 2021-10-14 06:14:03 -0400 (Thu, 14 Oct 2021) EllapsedTime: 10.6 seconds RetCode: 0 Status: OK