Package: flowViz Version: 1.56.0 Command: /Library/Frameworks/R.framework/Versions/Current/Resources/bin/R CMD check --install=check:flowViz.install-out.txt --library=/Library/Frameworks/R.framework/Versions/Current/Resources/library --no-vignettes --timings flowViz_1.56.0.tar.gz StartedAt: 2021-10-14 19:09:37 -0400 (Thu, 14 Oct 2021) EndedAt: 2021-10-14 19:12:15 -0400 (Thu, 14 Oct 2021) EllapsedTime: 158.8 seconds RetCode: 0 Status: OK CheckDir: flowViz.Rcheck Warnings: 0