Package: flowVS Version: 1.24.0 Command: /Library/Frameworks/R.framework/Versions/Current/Resources/bin/R CMD build --keep-empty-dirs --no-resave-data flowVS StartedAt: 2021-10-14 12:08:32 -0400 (Thu, 14 Oct 2021) EndedAt: 2021-10-14 12:11:03 -0400 (Thu, 14 Oct 2021) EllapsedTime: 150.8 seconds RetCode: 0 Status: OK PackageFile: flowVS_1.24.0.tar.gz PackageFileSize: 3.689 MiB