Package: flowUtils Version: 1.56.0 Command: rm -rf flowUtils.buildbin-libdir && mkdir flowUtils.buildbin-libdir && C:\Users\biocbuild\bbs-3.13-bioc\R\bin\R.exe CMD INSTALL --merge-multiarch --build --library=flowUtils.buildbin-libdir flowUtils_1.56.0.tar.gz StartedAt: 2021-10-15 09:22:29 -0400 (Fri, 15 Oct 2021) EndedAt: 2021-10-15 09:24:05 -0400 (Fri, 15 Oct 2021) EllapsedTime: 95.8 seconds RetCode: 0 Status: OK PackageFile: flowUtils_1.56.0.zip PackageFileSize: 520.6 KiB