Package: flowUtils Version: 1.56.0 Command: /home/biocbuild/bbs-3.13-bioc/R/bin/R CMD build --keep-empty-dirs --no-resave-data flowUtils StartedAt: 2021-10-14 07:17:32 -0400 (Thu, 14 Oct 2021) EndedAt: 2021-10-14 07:17:47 -0400 (Thu, 14 Oct 2021) EllapsedTime: 14.7 seconds RetCode: 0 Status: OK PackageFile: flowUtils_1.56.0.tar.gz PackageFileSize: 373.7 KiB