Package: flowUtils Version: 1.56.0 Command: rm -rf flowUtils.buildbin-libdir && mkdir flowUtils.buildbin-libdir && /Users/biocbuild/BBS/utils/build-universal.sh flowUtils_1.56.0.tar.gz /Library/Frameworks/R.framework/Versions/Current/Resources/bin/R flowUtils.buildbin-libdir StartedAt: 2021-10-15 02:26:45 -0400 (Fri, 15 Oct 2021) EndedAt: 2021-10-15 02:27:56 -0400 (Fri, 15 Oct 2021) EllapsedTime: 71.1 seconds RetCode: 0 Status: OK PackageFile: flowUtils_1.56.0.tgz PackageFileSize: 509 KiB