git_url: https://git.bioconductor.org/packages/flowUtils git_branch: RELEASE_3_13 git_last_commit: ad93cd2 git_last_commit_date: 2021-05-19 11:38:23 -0400 (Wed, 19 May 2021) Package: flowUtils Version: 1.56.0 Maintainer: Josef Spidlen MaintainerEmail: jspidlen at gmail.com