Package: flowTrans Version: 1.44.0 Command: C:\Users\biocbuild\bbs-3.13-bioc\R\bin\R.exe CMD check --force-multiarch --install=check:flowTrans.install-out.txt --library=C:\Users\biocbuild\bbs-3.13-bioc\R\library --no-vignettes --timings flowTrans_1.44.0.tar.gz StartedAt: 2021-10-14 23:17:03 -0400 (Thu, 14 Oct 2021) EndedAt: 2021-10-14 23:18:45 -0400 (Thu, 14 Oct 2021) EllapsedTime: 101.5 seconds RetCode: 0 Status: OK CheckDir: flowTrans.Rcheck Warnings: 0