Package: flowTrans Version: 1.44.0 Command: /Library/Frameworks/R.framework/Versions/Current/Resources/bin/R CMD check --install=check:flowTrans.install-out.txt --library=/Library/Frameworks/R.framework/Versions/Current/Resources/library --no-vignettes --timings flowTrans_1.44.0.tar.gz StartedAt: 2021-10-14 19:09:25 -0400 (Thu, 14 Oct 2021) EndedAt: 2021-10-14 19:11:00 -0400 (Thu, 14 Oct 2021) EllapsedTime: 94.8 seconds RetCode: 0 Status: OK CheckDir: flowTrans.Rcheck Warnings: 0