Package: flowPlots Version: 1.40.0 Command: C:\Users\biocbuild\bbs-3.13-bioc\R\bin\R.exe CMD check --force-multiarch --install=check:flowPlots.install-out.txt --library=C:\Users\biocbuild\bbs-3.13-bioc\R\library --no-vignettes --timings flowPlots_1.40.0.tar.gz StartedAt: 2021-10-14 23:16:01 -0400 (Thu, 14 Oct 2021) EndedAt: 2021-10-14 23:17:03 -0400 (Thu, 14 Oct 2021) EllapsedTime: 62.4 seconds RetCode: 0 Status: OK CheckDir: flowPlots.Rcheck Warnings: 0