Package: flowPlots Version: 1.40.0 Command: rm -rf flowPlots.buildbin-libdir && mkdir flowPlots.buildbin-libdir && C:\Users\biocbuild\bbs-3.13-bioc\R\bin\R.exe CMD INSTALL --merge-multiarch --build --library=flowPlots.buildbin-libdir flowPlots_1.40.0.tar.gz StartedAt: 2021-10-15 09:21:37 -0400 (Fri, 15 Oct 2021) EndedAt: 2021-10-15 09:23:12 -0400 (Fri, 15 Oct 2021) EllapsedTime: 94.9 seconds RetCode: 0 Status: OK PackageFile: flowPlots_1.40.0.zip PackageFileSize: 769.4 KiB