Package: flowPlots Version: 1.40.0 Command: /home/biocbuild/bbs-3.13-bioc/R/bin/R CMD build --keep-empty-dirs --no-resave-data flowPlots StartedAt: 2021-10-14 07:17:10 -0400 (Thu, 14 Oct 2021) EndedAt: 2021-10-14 07:17:29 -0400 (Thu, 14 Oct 2021) EllapsedTime: 18.5 seconds RetCode: 0 Status: OK PackageFile: flowPlots_1.40.0.tar.gz PackageFileSize: 503.5 KiB