Package: flowPlots Version: 1.40.0 Command: /Library/Frameworks/R.framework/Versions/Current/Resources/bin/R CMD INSTALL flowPlots StartedAt: 2021-10-14 08:09:27 -0400 (Thu, 14 Oct 2021) EndedAt: 2021-10-14 08:10:12 -0400 (Thu, 14 Oct 2021) EllapsedTime: 44.5 seconds RetCode: 0 Status: OK