Package: flowPlots Version: 1.40.0 Command: /Library/Frameworks/R.framework/Versions/Current/Resources/bin/R CMD build --keep-empty-dirs --no-resave-data flowPlots StartedAt: 2021-10-14 12:07:42 -0400 (Thu, 14 Oct 2021) EndedAt: 2021-10-14 12:07:59 -0400 (Thu, 14 Oct 2021) EllapsedTime: 16.6 seconds RetCode: 0 Status: OK PackageFile: flowPlots_1.40.0.tar.gz PackageFileSize: 503.7 KiB