git_url: https://git.bioconductor.org/packages/flowPlots git_branch: RELEASE_3_13 git_last_commit: 81be8c2 git_last_commit_date: 2021-05-19 11:47:48 -0400 (Wed, 19 May 2021) Package: flowPlots Version: 1.40.0 Maintainer: N. Hawkins MaintainerEmail: hawkins at fhcrc.org