Package: flowPeaks Version: 1.38.0 Command: chmod a+r flowPeaks -R && C:\Users\biocbuild\bbs-3.13-bioc\R\bin\R.exe CMD build --keep-empty-dirs --no-resave-data flowPeaks StartedAt: 2021-10-14 14:13:44 -0400 (Thu, 14 Oct 2021) EndedAt: 2021-10-14 14:15:09 -0400 (Thu, 14 Oct 2021) EllapsedTime: 85.4 seconds RetCode: 0 Status: OK PackageFile: flowPeaks_1.38.0.tar.gz PackageFileSize: 5.569 MiB