Package: flowPeaks Version: 1.38.0 Command: /Library/Frameworks/R.framework/Versions/Current/Resources/bin/R CMD check --install=check:flowPeaks.install-out.txt --library=/Library/Frameworks/R.framework/Versions/Current/Resources/library --no-vignettes --timings flowPeaks_1.38.0.tar.gz StartedAt: 2021-10-14 19:08:00 -0400 (Thu, 14 Oct 2021) EndedAt: 2021-10-14 19:08:33 -0400 (Thu, 14 Oct 2021) EllapsedTime: 33.1 seconds RetCode: 0 Status: WARNINGS CheckDir: flowPeaks.Rcheck Warnings: 1