Package: flowMeans Version: 1.52.0 Command: C:\cygwin\bin\curl.exe -O http://155.52.207.165/BBS/3.13/bioc/src/contrib/flowMeans_1.52.0.tar.gz && rm -rf flowMeans.buildbin-libdir && mkdir flowMeans.buildbin-libdir && C:\Users\biocbuild\bbs-3.13-bioc\R\bin\R.exe CMD INSTALL --merge-multiarch --build --library=flowMeans.buildbin-libdir flowMeans_1.52.0.tar.gz && C:\Users\biocbuild\bbs-3.13-bioc\R\bin\R.exe CMD INSTALL flowMeans_1.52.0.zip && rm flowMeans_1.52.0.tar.gz flowMeans_1.52.0.zip StartedAt: 2021-10-14 11:10:28 -0400 (Thu, 14 Oct 2021) EndedAt: 2021-10-14 11:11:05 -0400 (Thu, 14 Oct 2021) EllapsedTime: 37.0 seconds RetCode: 0 Status: OK