Package: flowMeans Version: 1.52.0 Command: /Library/Frameworks/R.framework/Versions/Current/Resources/bin/R CMD INSTALL flowMeans StartedAt: 2021-10-14 10:20:57 -0400 (Thu, 14 Oct 2021) EndedAt: 2021-10-14 10:21:35 -0400 (Thu, 14 Oct 2021) EllapsedTime: 37.4 seconds RetCode: 0 Status: OK