Package: flowMeans Version: 1.52.0 Command: /Library/Frameworks/R.framework/Versions/Current/Resources/bin/R CMD build --keep-empty-dirs --no-resave-data flowMeans StartedAt: 2021-10-14 12:06:50 -0400 (Thu, 14 Oct 2021) EndedAt: 2021-10-14 12:08:10 -0400 (Thu, 14 Oct 2021) EllapsedTime: 80.2 seconds RetCode: 0 Status: OK PackageFile: flowMeans_1.52.0.tar.gz PackageFileSize: 3.235 MiB