Package: flowMeans Version: 1.52.0 Command: rm -rf flowMeans.buildbin-libdir && mkdir flowMeans.buildbin-libdir && /Users/biocbuild/BBS/utils/build-universal.sh flowMeans_1.52.0.tar.gz /Library/Frameworks/R.framework/Versions/Current/Resources/bin/R flowMeans.buildbin-libdir StartedAt: 2021-10-15 02:25:52 -0400 (Fri, 15 Oct 2021) EndedAt: 2021-10-15 02:26:51 -0400 (Fri, 15 Oct 2021) EllapsedTime: 59.3 seconds RetCode: 0 Status: OK PackageFile: flowMeans_1.52.0.tgz PackageFileSize: 3.492 MiB