Package: flowMap Version: 1.30.0 Command: /Library/Frameworks/R.framework/Versions/Current/Resources/bin/R CMD build --keep-empty-dirs --no-resave-data flowMap StartedAt: 2021-10-14 12:06:29 -0400 (Thu, 14 Oct 2021) EndedAt: 2021-10-14 12:07:48 -0400 (Thu, 14 Oct 2021) EllapsedTime: 78.5 seconds RetCode: 0 Status: OK PackageFile: flowMap_1.30.0.tar.gz PackageFileSize: 866.5 KiB