Package: flowGraph Version: 1.0.0 Command: C:\Users\biocbuild\bbs-3.13-bioc\R\bin\R.exe CMD check --force-multiarch --install=check:flowGraph.install-out.txt --library=C:\Users\biocbuild\bbs-3.13-bioc\R\library --no-vignettes --timings flowGraph_1.0.0.tar.gz StartedAt: 2021-10-14 23:14:13 -0400 (Thu, 14 Oct 2021) EndedAt: 2021-10-14 23:20:55 -0400 (Thu, 14 Oct 2021) EllapsedTime: 401.8 seconds RetCode: 0 Status: OK CheckDir: flowGraph.Rcheck Warnings: 0