Package: flowGraph Version: 1.0.0 Command: chmod a+r flowGraph -R && C:\Users\biocbuild\bbs-3.13-bioc\R\bin\R.exe CMD build --keep-empty-dirs --no-resave-data flowGraph StartedAt: 2021-10-14 14:12:44 -0400 (Thu, 14 Oct 2021) EndedAt: 2021-10-14 14:13:58 -0400 (Thu, 14 Oct 2021) EllapsedTime: 73.1 seconds RetCode: 0 Status: OK PackageFile: flowGraph_1.0.0.tar.gz PackageFileSize: 1.171 MiB