Package: flowGraph Version: 1.0.0 Command: /home/biocbuild/bbs-3.13-bioc/R/bin/R CMD build --keep-empty-dirs --no-resave-data flowGraph StartedAt: 2021-10-14 07:16:51 -0400 (Thu, 14 Oct 2021) EndedAt: 2021-10-14 07:17:39 -0400 (Thu, 14 Oct 2021) EllapsedTime: 48.5 seconds RetCode: 0 Status: OK PackageFile: flowGraph_1.0.0.tar.gz PackageFileSize: 1.843 MiB