Package: flowFP Version: 1.50.0 Command: chmod a+r flowFP -R && C:\Users\biocbuild\bbs-3.13-bioc\R\bin\R.exe CMD build --keep-empty-dirs --no-resave-data flowFP StartedAt: 2021-10-14 14:12:37 -0400 (Thu, 14 Oct 2021) EndedAt: 2021-10-14 14:13:27 -0400 (Thu, 14 Oct 2021) EllapsedTime: 50.4 seconds RetCode: 0 Status: OK PackageFile: flowFP_1.50.0.tar.gz PackageFileSize: 5.171 MiB