Package: flowFP Version: 1.50.0 Command: /Library/Frameworks/R.framework/Versions/Current/Resources/bin/R CMD INSTALL flowFP StartedAt: 2021-10-14 08:28:17 -0400 (Thu, 14 Oct 2021) EndedAt: 2021-10-14 08:29:06 -0400 (Thu, 14 Oct 2021) EllapsedTime: 49.4 seconds RetCode: 0 Status: OK