Package: flowCut Version: 1.2.0 Command: /home/biocbuild/bbs-3.13-bioc/R/bin/R CMD build --keep-empty-dirs --no-resave-data flowCut StartedAt: 2021-10-14 07:16:43 -0400 (Thu, 14 Oct 2021) EndedAt: 2021-10-14 07:17:30 -0400 (Thu, 14 Oct 2021) EllapsedTime: 47.7 seconds RetCode: 0 Status: OK PackageFile: flowCut_1.2.0.tar.gz PackageFileSize: 7.364 MiB